BEGIN:VCALENDAR
VERSION:2.0
PRODID:-//wp-events-plugin.com//7.2.3.1//EN
TZID:Europe/Berlin
X-WR-TIMEZONE:Europe/Berlin
BEGIN:VEVENT
UID:102@laber-jura.de
DTSTART:20220207T180000Z
DTEND:20220207T190000Z
DTSTAMP:20220130T083607Z
URL:https://www.laber-jura.de/events/sitzung-bau-und-umweltausschuss-4/
SUMMARY:Sitzung Bau- und Umweltausschuss
DESCRIPTION:Die nächste öffentliche Sitzung des Bau- und Umweltausschusse
 s findet im Sitzungssaal des Zehentstadels statt.\n\nTagesordnung:\n\n1. G
 enehmigung der Niederschrift der letzten Sitzung\n\n2. Baupläne\n\nAnschl
 ießend nicht öffentliche Sitzung.\n\n&nbsp\;\n\nZur Beachtung:\n\nBaupl
 äne für die Sitzung des Bau- und Umweltausschusses müssen neun Tage vor
  der Sitzung digital in der Bauverwaltung vorliegen!
ATTACH;FMTTYPE=image/jpeg:https://www.laber-jura.de/wp-content/uploads/201
 8/11/bauaus.gif
CATEGORIES:Sitzung
LOCATION:Zehentstadel\, Paracelsusstraße\, Beratzhausen\, Bayern\, 93176\,
  Deutschland
X-APPLE-STRUCTURED-LOCATION;VALUE=URI;X-ADDRESS=Paracelsusstraße\, Beratzh
 ausen\, Bayern\, 93176\, Deutschland;X-APPLE-RADIUS=100;X-TITLE=Zehentstad
 el:geo:0,0
END:VEVENT
END:VCALENDAR