BEGIN:VCALENDAR
VERSION:2.0
PRODID:-//wp-events-plugin.com//7.2.3.1//EN
TZID:Europe/Berlin
X-WR-TIMEZONE:Europe/Berlin
BEGIN:VEVENT
UID:128@laber-jura.de
DTSTART:20251018T170000Z
DTEND:20251018T180000Z
DTSTAMP:20251007T062615Z
URL:https://www.laber-jura.de/events/singend-dem-ziel-entgegen/
SUMMARY:„Singend dem Ziel entgegen“
DESCRIPTION:Meditative Stunde der Choryphäen am 18. Oktober
CATEGORIES:Konzert,Kultur
LOCATION:Pfarrkirche St. Peter und Paul\, Marktstraße\, Beratzhausen\, b\,
  93176\, Deutschland
X-APPLE-STRUCTURED-LOCATION;VALUE=URI;X-ADDRESS=Marktstraße\, Beratzhausen
 \, b\, 93176\, Deutschland;X-APPLE-RADIUS=100;X-TITLE=Pfarrkirche St. Pete
 r und Paul:geo:0,0
END:VEVENT
END:VCALENDAR