BEGIN:VCALENDAR
VERSION:2.0
PRODID:-//wp-events-plugin.com//7.2.3.1//EN
TZID:Europe/Berlin
X-WR-TIMEZONE:Europe/Berlin
BEGIN:VEVENT
UID:104@laber-jura.de
DTSTART:20220326T160000Z
DTEND:20220326T173000Z
DTSTAMP:20220324T072542Z
URL:https://www.laber-jura.de/events/singen-fuer-den-frieden/
SUMMARY:VERSCHOBEN +++ Singen für den Frieden
DESCRIPTION:VERSCHOBEN +++ „Musikalisches Gebet für den Frieden“ +++\n
 \n„Musikalisches Gebet für den Frieden“ verschoben\n\nDie von den Cho
 ryphäen und Schiefen Tönen für Samstag\, 26. März\, um 17 Uhr in der P
 farrkirche St. Peter und Paul Beratzhausen vorgesehene Solidaritätsverans
 taltung für die Ukraine „Musikalisches Gebet für den Frieden“ muss k
 rankheitsbedingt verschoben werden. Der neue Termin wird rechtzeitig bekan
 nt gegeben.\n\n&nbsp\;\n\nChoryphäen und Schiefe Töne aktiv für die Ukr
 aine\n\nDas Plakat zur Veranstaltung „Singen für den Frieden“ am 26. 
 März 2022 um 17 Uhr in der Pfarrkirche St. Peter und Paul Beratzhausen.\n
 \nSingen für Frieden_Plakat
CATEGORIES:Konzert
LOCATION:Pfarrkirche St. Peter und Paul\, Marktstraße\, Beratzhausen\, b\,
  93176\, Deutschland
X-APPLE-STRUCTURED-LOCATION;VALUE=URI;X-ADDRESS=Marktstraße\, Beratzhausen
 \, b\, 93176\, Deutschland;X-APPLE-RADIUS=100;X-TITLE=Pfarrkirche St. Pete
 r und Paul:geo:0,0
END:VEVENT
END:VCALENDAR