BEGIN:VCALENDAR
VERSION:2.0
PRODID:-//wp-events-plugin.com//7.2.3.1//EN
TZID:Europe/Berlin
X-WR-TIMEZONE:Europe/Berlin
BEGIN:VEVENT
UID:38@laber-jura.de
DTSTART:20200203T180000Z
DTEND:20200203T210000Z
DTSTAMP:20191222T070304Z
URL:https://www.laber-jura.de/events/marktratssitzung-2/
SUMMARY:Marktratssitzung
DESCRIPTION:Die Tagesordnung wird separat bekannt gegeben.
ATTACH;FMTTYPE=image/jpeg:https://www.laber-jura.de/wp-content/uploads/201
 8/11/sitzung.gif
CATEGORIES:Sitzung
LOCATION:Zehentstadel\, Paracelsusstraße\, Beratzhausen\, Bayern\, 93176\,
  Deutschland
X-APPLE-STRUCTURED-LOCATION;VALUE=URI;X-ADDRESS=Paracelsusstraße\, Beratzh
 ausen\, Bayern\, 93176\, Deutschland;X-APPLE-RADIUS=100;X-TITLE=Zehentstad
 el:geo:0,0
END:VEVENT
END:VCALENDAR