BEGIN:VCALENDAR
VERSION:2.0
PRODID:-//wp-events-plugin.com//7.2.3.1//EN
TZID:Europe/Berlin
X-WR-TIMEZONE:Europe/Berlin
BEGIN:VEVENT
UID:41@laber-jura.de
DTSTART;VALUE=DATE:20200315
DTEND;VALUE=DATE:20200316
DTSTAMP:20200308T065802Z
URL:https://www.laber-jura.de/events/kommualwahl-in-bayern/
SUMMARY:Kommualwahl in Bayern
DESCRIPTION:In Bayern finden Kommunalwahlen in allen Bezirken statt. Neben 
 den Stadt- bzw. Gemeinderatswahlen sind alle wahlberechtigten Bürger und 
 Bürgerinnen aufgefordert auch die Landkreisvertreter-/innen neu zu bestim
 men.\n\nIn etlichen Kommunen werden auch die neue Bürgermeistes oder Bür
 germeisterinnen ermittelt.
END:VEVENT
END:VCALENDAR